BEGIN:VCALENDAR
VERSION:2.0
PRODID:-//TACFS - ECPv6.15.20//NONSGML v1.0//EN
CALSCALE:GREGORIAN
METHOD:PUBLISH
X-ORIGINAL-URL:https://tacfs.org
X-WR-CALDESC:Events for TACFS
REFRESH-INTERVAL;VALUE=DURATION:PT1H
X-Robots-Tag:noindex
X-PUBLISHED-TTL:PT1H
BEGIN:VTIMEZONE
TZID:America/Chicago
BEGIN:DAYLIGHT
TZOFFSETFROM:-0600
TZOFFSETTO:-0500
TZNAME:CDT
DTSTART:20250309T080000
END:DAYLIGHT
BEGIN:STANDARD
TZOFFSETFROM:-0500
TZOFFSETTO:-0600
TZNAME:CST
DTSTART:20251102T070000
END:STANDARD
BEGIN:DAYLIGHT
TZOFFSETFROM:-0600
TZOFFSETTO:-0500
TZNAME:CDT
DTSTART:20260308T080000
END:DAYLIGHT
BEGIN:STANDARD
TZOFFSETFROM:-0500
TZOFFSETTO:-0600
TZNAME:CST
DTSTART:20261101T070000
END:STANDARD
BEGIN:DAYLIGHT
TZOFFSETFROM:-0600
TZOFFSETTO:-0500
TZNAME:CDT
DTSTART:20270314T080000
END:DAYLIGHT
BEGIN:STANDARD
TZOFFSETFROM:-0500
TZOFFSETTO:-0600
TZNAME:CST
DTSTART:20271107T070000
END:STANDARD
END:VTIMEZONE
BEGIN:VEVENT
DTSTART;TZID=America/Chicago:20260430T090000
DTEND;TZID=America/Chicago:20260430T123000
DTSTAMP:20260421T044835
CREATED:20260218T214742Z
LAST-MODIFIED:20260401T183156Z
UID:5277-1777539600-1777552200@tacfs.org
SUMMARY:AI in Child Welfare Symposium
DESCRIPTION:Are you ready to shape the future of AI in child welfare? \nArtificial intelligence is transforming the way we work — and the child welfare sector is no exception. Whether your organization is just beginning to explore AI or already navigating the complex questions around ethics\, risk\, and governance\, this symposium is designed for you. \nFeatured speaker: Alex Salas\, Founder and CEO of Social Capital Projects\nFrom Foundations to Foresight: Executive AI Readiness for Mission-Driven Organizations \nSPECIAL GUEST: Read Holman\, Senior Director at the Center for Civic Futures \nJoin us for discovery\, conversation\, and practical learning as we: \n– Explore the AI landscape in child welfare — what’s happening now and what’s on the horizon\n– Hear from an expert on how AI works\, what to watch out for\, and how to approach it responsibly\n– Learn from Texas providers who are already putting AI to work in real-world settings\n– Develop concrete next steps based on your organization’s needs and goals \nCome curious. Leave ready. \nHosted in partnership with Casey Family Programs
URL:https://tacfs.org/event/ai-in-child-welfare-symposium/
CATEGORIES:Public Events
ATTACH;FMTTYPE=image/jpeg:https://tacfs.org/wp-content/uploads/2021/04/default_1.jpg
END:VEVENT
END:VCALENDAR